BEGIN:VCALENDAR
VERSION:2.0
PRODID:-//eventon.com NONSGML v1.0//EN
CALSCALE:GREGORIAN
METHOD:PUBLISH
BEGIN:VEVENT
UID:69ed6f7a6d02c
DTSTAMP:20260426T015050Z
DTSTART:20240322T023000Z
DTEND:20240323T033000Z
LOCATION:
SUMMARY:Char-navalle des maternelles
DESCRIPTION:\nhttps://lfay.com.vn/events/char-navalle-des-maternelles/
URL:https://lfay.com.vn/events/char-navalle-des-maternelles/
END:VEVENT
END:VCALENDAR